BEGIN:VCALENDAR
VERSION:2.0
PRODID:-//St John&#039;s Parish, Kilkenny, Ireland - ECPv6.15.18//NONSGML v1.0//EN
CALSCALE:GREGORIAN
METHOD:PUBLISH
X-WR-CALNAME:St John&#039;s Parish, Kilkenny, Ireland
X-ORIGINAL-URL:https://www.stjohnskilkenny.com
X-WR-CALDESC:Events for St John&#039;s Parish, Kilkenny, Ireland
REFRESH-INTERVAL;VALUE=DURATION:PT1H
X-Robots-Tag:noindex
X-PUBLISHED-TTL:PT1H
BEGIN:VTIMEZONE
TZID:Europe/Dublin
BEGIN:STANDARD
TZOFFSETFROM:+0000
TZOFFSETTO:+0100
TZNAME:IST
DTSTART:20220327T010000
END:STANDARD
BEGIN:DAYLIGHT
TZOFFSETFROM:+0100
TZOFFSETTO:+0000
TZNAME:GMT
DTSTART:20221030T010000
END:DAYLIGHT
BEGIN:STANDARD
TZOFFSETFROM:+0000
TZOFFSETTO:+0100
TZNAME:IST
DTSTART:20230326T010000
END:STANDARD
BEGIN:DAYLIGHT
TZOFFSETFROM:+0100
TZOFFSETTO:+0000
TZNAME:GMT
DTSTART:20231029T010000
END:DAYLIGHT
BEGIN:STANDARD
TZOFFSETFROM:+0000
TZOFFSETTO:+0100
TZNAME:IST
DTSTART:20240331T010000
END:STANDARD
BEGIN:DAYLIGHT
TZOFFSETFROM:+0100
TZOFFSETTO:+0000
TZNAME:GMT
DTSTART:20241027T010000
END:DAYLIGHT
END:VTIMEZONE
BEGIN:VEVENT
DTSTART;TZID=Europe/Dublin:20230821T071500
DTEND;TZID=Europe/Dublin:20230821T220000
DTSTAMP:20260422T220202
CREATED:20230812T173657Z
LAST-MODIFIED:20230812T173703Z
UID:10000074-1692602100-1692655200@www.stjohnskilkenny.com
SUMMARY:St John's Parish Pilgrimage to Knock
DESCRIPTION:Join us on our Parish Pilgrimage to Knock on Monday\, 21st August – the anniversary of the apparitions.  Coach  leaves St. John’s at 7.15am with a stop for breakfast on the way and for dinner on the return journey. \nThe cost is €20 per person for the coach and your place must be purchased from the Parish Office or Sacristy beforehand.
URL:https://www.stjohnskilkenny.com/event/st-johns-parish-pilgrimage-to-knock/
END:VEVENT
END:VCALENDAR