BEGIN:VCALENDAR
VERSION:2.0
PRODID:-//St John&#039;s Parish, Kilkenny, Ireland - ECPv6.15.18//NONSGML v1.0//EN
CALSCALE:GREGORIAN
METHOD:PUBLISH
X-WR-CALNAME:St John&#039;s Parish, Kilkenny, Ireland
X-ORIGINAL-URL:https://www.stjohnskilkenny.com
X-WR-CALDESC:Events for St John&#039;s Parish, Kilkenny, Ireland
REFRESH-INTERVAL;VALUE=DURATION:PT1H
X-Robots-Tag:noindex
X-PUBLISHED-TTL:PT1H
BEGIN:VTIMEZONE
TZID:Europe/Dublin
BEGIN:STANDARD
TZOFFSETFROM:+0000
TZOFFSETTO:+0100
TZNAME:IST
DTSTART:20210328T010000
END:STANDARD
BEGIN:DAYLIGHT
TZOFFSETFROM:+0100
TZOFFSETTO:+0000
TZNAME:GMT
DTSTART:20211031T010000
END:DAYLIGHT
BEGIN:STANDARD
TZOFFSETFROM:+0000
TZOFFSETTO:+0100
TZNAME:IST
DTSTART:20220327T010000
END:STANDARD
BEGIN:DAYLIGHT
TZOFFSETFROM:+0100
TZOFFSETTO:+0000
TZNAME:GMT
DTSTART:20221030T010000
END:DAYLIGHT
BEGIN:STANDARD
TZOFFSETFROM:+0000
TZOFFSETTO:+0100
TZNAME:IST
DTSTART:20230326T010000
END:STANDARD
BEGIN:DAYLIGHT
TZOFFSETFROM:+0100
TZOFFSETTO:+0000
TZNAME:GMT
DTSTART:20231029T010000
END:DAYLIGHT
END:VTIMEZONE
BEGIN:VEVENT
DTSTART;TZID=Europe/Dublin:20221117T193000
DTEND;TZID=Europe/Dublin:20221117T203000
DTSTAMP:20260423T101619
CREATED:20221029T194949Z
LAST-MODIFIED:20221029T194958Z
UID:10000005-1668713400-1668717000@www.stjohnskilkenny.com
SUMMARY:Remembrance Mass for those who died during the past year
DESCRIPTION:We are currently planning our Remembrance Mass for those of our parishioners who died during the past year. We will be inviting relatives and friends to join us in St. John’s Church at 7.30pm on Thursday\, 17th November when we will call to mind in prayer those who have died during the past twelve months. Please keep the date free. More details later.
URL:https://www.stjohnskilkenny.com/event/remembrance-mass-for-those-who-died-during-the-past-year/
LOCATION:St. John’s Church\, Ireland
END:VEVENT
BEGIN:VEVENT
DTSTART;TZID=Europe/Dublin:20221123T110000
DTEND;TZID=Europe/Dublin:20221123T130000
DTSTAMP:20260423T101619
CREATED:20221120T171347Z
LAST-MODIFIED:20221120T171347Z
UID:10000006-1669201200-1669208400@www.stjohnskilkenny.com
SUMMARY:Adoration of the Blessed Sacrament
DESCRIPTION:We are reintroducing Adoration of the Blessed Sacrament on Wednesdays between 11.00am and 1.00pm.  All welcome.
URL:https://www.stjohnskilkenny.com/event/adoration-of-the-blessed-sacrament/2022-11-23/
LOCATION:St. John’s Church\, Ireland
END:VEVENT
BEGIN:VEVENT
DTSTART;TZID=Europe/Dublin:20221130T110000
DTEND;TZID=Europe/Dublin:20221130T130000
DTSTAMP:20260423T101619
CREATED:20221120T171347Z
LAST-MODIFIED:20221120T171347Z
UID:10000007-1669806000-1669813200@www.stjohnskilkenny.com
SUMMARY:Adoration of the Blessed Sacrament
DESCRIPTION:We are reintroducing Adoration of the Blessed Sacrament on Wednesdays between 11.00am and 1.00pm.  All welcome.
URL:https://www.stjohnskilkenny.com/event/adoration-of-the-blessed-sacrament/2022-11-30/
LOCATION:St. John’s Church\, Ireland
END:VEVENT
END:VCALENDAR