BEGIN:VCALENDAR
VERSION:2.0
PRODID:-//St John&#039;s Parish, Kilkenny, Ireland - ECPv6.15.18//NONSGML v1.0//EN
CALSCALE:GREGORIAN
METHOD:PUBLISH
X-ORIGINAL-URL:https://www.stjohnskilkenny.com
X-WR-CALDESC:Events for St John&#039;s Parish, Kilkenny, Ireland
REFRESH-INTERVAL;VALUE=DURATION:PT1H
X-Robots-Tag:noindex
X-PUBLISHED-TTL:PT1H
BEGIN:VTIMEZONE
TZID:Europe/Dublin
BEGIN:STANDARD
TZOFFSETFROM:+0000
TZOFFSETTO:+0100
TZNAME:IST
DTSTART:20210328T010000
END:STANDARD
BEGIN:DAYLIGHT
TZOFFSETFROM:+0100
TZOFFSETTO:+0000
TZNAME:GMT
DTSTART:20211031T010000
END:DAYLIGHT
BEGIN:STANDARD
TZOFFSETFROM:+0000
TZOFFSETTO:+0100
TZNAME:IST
DTSTART:20220327T010000
END:STANDARD
BEGIN:DAYLIGHT
TZOFFSETFROM:+0100
TZOFFSETTO:+0000
TZNAME:GMT
DTSTART:20221030T010000
END:DAYLIGHT
BEGIN:STANDARD
TZOFFSETFROM:+0000
TZOFFSETTO:+0100
TZNAME:IST
DTSTART:20230326T010000
END:STANDARD
BEGIN:DAYLIGHT
TZOFFSETFROM:+0100
TZOFFSETTO:+0000
TZNAME:GMT
DTSTART:20231029T010000
END:DAYLIGHT
END:VTIMEZONE
BEGIN:VEVENT
DTSTART;TZID=Europe/Dublin:20220701T193000
DTEND;TZID=Europe/Dublin:20220701T210000
DTSTAMP:20260422T054607
CREATED:20220504T132858Z
LAST-MODIFIED:20220504T133009Z
UID:10000002-1656703800-1656709200@www.stjohnskilkenny.com
SUMMARY:Annual Cemetery Mass at Johnswell and Dunmore
DESCRIPTION:We look forward to coming together as a community to honour and pray for our deceased relatives and\nfriends. All going well\, the Masses will be celebrated in Johnswell and Dunmore Cemeteries at 7.30pm on\nFriday\, 4th July 2022.
URL:https://www.stjohnskilkenny.com/event/annual-cemetery-mass-at-johnswell-and-dunmore/
END:VEVENT
END:VCALENDAR