BEGIN:VCALENDAR
VERSION:2.0
PRODID:-//St John&#039;s Parish, Kilkenny, Ireland - ECPv6.15.18//NONSGML v1.0//EN
CALSCALE:GREGORIAN
METHOD:PUBLISH
X-WR-CALNAME:St John&#039;s Parish, Kilkenny, Ireland
X-ORIGINAL-URL:https://www.stjohnskilkenny.com
X-WR-CALDESC:Events for St John&#039;s Parish, Kilkenny, Ireland
REFRESH-INTERVAL;VALUE=DURATION:PT1H
X-Robots-Tag:noindex
X-PUBLISHED-TTL:PT1H
BEGIN:VTIMEZONE
TZID:Europe/Dublin
BEGIN:STANDARD
TZOFFSETFROM:+0000
TZOFFSETTO:+0100
TZNAME:IST
DTSTART:20210328T010000
END:STANDARD
BEGIN:DAYLIGHT
TZOFFSETFROM:+0100
TZOFFSETTO:+0000
TZNAME:GMT
DTSTART:20211031T010000
END:DAYLIGHT
BEGIN:STANDARD
TZOFFSETFROM:+0000
TZOFFSETTO:+0100
TZNAME:IST
DTSTART:20220327T010000
END:STANDARD
BEGIN:DAYLIGHT
TZOFFSETFROM:+0100
TZOFFSETTO:+0000
TZNAME:GMT
DTSTART:20221030T010000
END:DAYLIGHT
BEGIN:STANDARD
TZOFFSETFROM:+0000
TZOFFSETTO:+0100
TZNAME:IST
DTSTART:20230326T010000
END:STANDARD
BEGIN:DAYLIGHT
TZOFFSETFROM:+0100
TZOFFSETTO:+0000
TZNAME:GMT
DTSTART:20231029T010000
END:DAYLIGHT
END:VTIMEZONE
BEGIN:VEVENT
DTSTART;TZID=Europe/Dublin:20220507T110000
DTEND;TZID=Europe/Dublin:20220507T120000
DTSTAMP:20260422T172156
CREATED:20211206T162705Z
LAST-MODIFIED:20211206T162705Z
UID:10000049-1651921200-1651924800@www.stjohnskilkenny.com
SUMMARY:First Holy Communion - Johnswell
DESCRIPTION:First Holy Communion celebration with the children from Johnswell National School.
URL:https://www.stjohnskilkenny.com/event/first-holy-communion-johnswell/
LOCATION:St John the Baptist Church\, Johnswell\, Johnswell\, Kilkenny\, Ireland
END:VEVENT
BEGIN:VEVENT
DTSTART;TZID=Europe/Dublin:20220514T103000
DTEND;TZID=Europe/Dublin:20220514T113000
DTSTAMP:20260422T172156
CREATED:20211206T162244Z
LAST-MODIFIED:20211206T163059Z
UID:10000051-1652524200-1652527800@www.stjohnskilkenny.com
SUMMARY:First Holy Communion - St. John's
DESCRIPTION:First Holy Communion celebrations with some of the candidates from St. John’s Junior School and the Model School.  More of the children will receive later today.
URL:https://www.stjohnskilkenny.com/event/first-holy-communion/
LOCATION:St. John’s Church\, Ireland
END:VEVENT
BEGIN:VEVENT
DTSTART;TZID=Europe/Dublin:20220514T123000
DTEND;TZID=Europe/Dublin:20220514T133000
DTSTAMP:20260422T172156
CREATED:20211206T162430Z
LAST-MODIFIED:20211206T162931Z
UID:10000050-1652531400-1652535000@www.stjohnskilkenny.com
SUMMARY:First Holy Communion - St. John's
DESCRIPTION:First Holy Communion celebrations with some of the candidates from St. John’s Junior School and the Model School.  More of the children will have received earlier today.
URL:https://www.stjohnskilkenny.com/event/first-holy-communion-2/
LOCATION:St. John’s Church\, Ireland
END:VEVENT
END:VCALENDAR