BEGIN:VCALENDAR
VERSION:2.0
PRODID:-//St John&#039;s Parish, Kilkenny, Ireland - ECPv6.15.18//NONSGML v1.0//EN
CALSCALE:GREGORIAN
METHOD:PUBLISH
X-ORIGINAL-URL:https://www.stjohnskilkenny.com
X-WR-CALDESC:Events for St John&#039;s Parish, Kilkenny, Ireland
REFRESH-INTERVAL;VALUE=DURATION:PT1H
X-Robots-Tag:noindex
X-PUBLISHED-TTL:PT1H
BEGIN:VTIMEZONE
TZID:Europe/Dublin
BEGIN:STANDARD
TZOFFSETFROM:+0000
TZOFFSETTO:+0100
TZNAME:IST
DTSTART:20210328T010000
END:STANDARD
BEGIN:DAYLIGHT
TZOFFSETFROM:+0100
TZOFFSETTO:+0000
TZNAME:GMT
DTSTART:20211031T010000
END:DAYLIGHT
BEGIN:STANDARD
TZOFFSETFROM:+0000
TZOFFSETTO:+0100
TZNAME:IST
DTSTART:20220327T010000
END:STANDARD
BEGIN:DAYLIGHT
TZOFFSETFROM:+0100
TZOFFSETTO:+0000
TZNAME:GMT
DTSTART:20221030T010000
END:DAYLIGHT
BEGIN:STANDARD
TZOFFSETFROM:+0000
TZOFFSETTO:+0100
TZNAME:IST
DTSTART:20230326T010000
END:STANDARD
BEGIN:DAYLIGHT
TZOFFSETFROM:+0100
TZOFFSETTO:+0000
TZNAME:GMT
DTSTART:20231029T010000
END:DAYLIGHT
END:VTIMEZONE
BEGIN:VEVENT
DTSTART;TZID=Europe/Dublin:20220402T110000
DTEND;TZID=Europe/Dublin:20220402T123000
DTSTAMP:20260422T085312
CREATED:20211027T132256Z
LAST-MODIFIED:20211027T132303Z
UID:10000035-1648897200-1648902600@www.stjohnskilkenny.com
SUMMARY:Parish Confirmation
DESCRIPTION:This is the date chosen for our Parish Confirmation 2022.  We hope our preparation and ceremonies can proceed as planned.
URL:https://www.stjohnskilkenny.com/event/parish-confirmation/
LOCATION:St. John’s Church\, Ireland
END:VEVENT
BEGIN:VEVENT
DTSTART;TZID=Europe/Dublin:20220413T193000
DTEND;TZID=Europe/Dublin:20220413T203000
DTSTAMP:20260422T085312
CREATED:20220403T105945Z
LAST-MODIFIED:20220403T105945Z
UID:10000056-1649878200-1649881800@www.stjohnskilkenny.com
SUMMARY:Mass of Chrism
DESCRIPTION:Bishop Denis invites you to attend the Mass of Chrism on Wednesday\, 13th April at 7.30pm in St. Mary’s Cathedral\, Kilkenny.  This is an important diocesan celebration and all are cordially invited to attend.  During the Mass\, Bishop Denis will bless and consecrate the oils used in the Sacraments of Baptism\, Confirmation\, Holy Orders and the Sick and the priests of the diocese will renew their commitment to their priestly ministry.  While the occasion is open to all we particularly appeal to those who have ministries in our parish to attend this important annual celebration. \n 
URL:https://www.stjohnskilkenny.com/event/mass-of-chrism/
END:VEVENT
BEGIN:VEVENT
DTSTART;VALUE=DATE:20220415
DTEND;VALUE=DATE:20220416
DTSTAMP:20260422T085312
CREATED:20220123T170441Z
LAST-MODIFIED:20220123T170441Z
UID:10000045-1649980800-1650067199@www.stjohnskilkenny.com
SUMMARY:Good Friday
DESCRIPTION:
URL:https://www.stjohnskilkenny.com/event/good-friday/
END:VEVENT
BEGIN:VEVENT
DTSTART;VALUE=DATE:20220416
DTEND;VALUE=DATE:20220417
DTSTAMP:20260422T085312
CREATED:20220123T170522Z
LAST-MODIFIED:20220416T191952Z
UID:10000063-1650067200-1650153599@www.stjohnskilkenny.com
SUMMARY:Holy Saturday: Vigil Mass at 9.00pm
DESCRIPTION:You are invited to join us for the Solemn Easter Vigil at St. John’s Church at 9.00pm.
URL:https://www.stjohnskilkenny.com/event/holy-saturday/
END:VEVENT
BEGIN:VEVENT
DTSTART;VALUE=DATE:20220417
DTEND;VALUE=DATE:20220418
DTSTAMP:20260422T085312
CREATED:20220123T170557Z
LAST-MODIFIED:20220123T170557Z
UID:10000064-1650153600-1650239999@www.stjohnskilkenny.com
SUMMARY:Easter Sunday
DESCRIPTION:
URL:https://www.stjohnskilkenny.com/event/easter-sunday/
END:VEVENT
END:VCALENDAR