BEGIN:VCALENDAR
VERSION:2.0
PRODID:-//St John&#039;s Parish, Kilkenny, Ireland - ECPv6.15.18//NONSGML v1.0//EN
CALSCALE:GREGORIAN
METHOD:PUBLISH
X-ORIGINAL-URL:https://www.stjohnskilkenny.com
X-WR-CALDESC:Events for St John&#039;s Parish, Kilkenny, Ireland
REFRESH-INTERVAL;VALUE=DURATION:PT1H
X-Robots-Tag:noindex
X-PUBLISHED-TTL:PT1H
BEGIN:VTIMEZONE
TZID:Europe/Dublin
BEGIN:STANDARD
TZOFFSETFROM:+0000
TZOFFSETTO:+0100
TZNAME:IST
DTSTART:20210328T010000
END:STANDARD
BEGIN:DAYLIGHT
TZOFFSETFROM:+0100
TZOFFSETTO:+0000
TZNAME:GMT
DTSTART:20211031T010000
END:DAYLIGHT
BEGIN:STANDARD
TZOFFSETFROM:+0000
TZOFFSETTO:+0100
TZNAME:IST
DTSTART:20220327T010000
END:STANDARD
BEGIN:DAYLIGHT
TZOFFSETFROM:+0100
TZOFFSETTO:+0000
TZNAME:GMT
DTSTART:20221030T010000
END:DAYLIGHT
BEGIN:STANDARD
TZOFFSETFROM:+0000
TZOFFSETTO:+0100
TZNAME:IST
DTSTART:20230326T010000
END:STANDARD
BEGIN:DAYLIGHT
TZOFFSETFROM:+0100
TZOFFSETTO:+0000
TZNAME:GMT
DTSTART:20231029T010000
END:DAYLIGHT
END:VTIMEZONE
BEGIN:VEVENT
DTSTART;VALUE=DATE:20220201
DTEND;VALUE=DATE:20220202
DTSTAMP:20260422T164043
CREATED:20220129T113717Z
LAST-MODIFIED:20220129T113718Z
UID:10000061-1643673600-1643759999@www.stjohnskilkenny.com
SUMMARY:Feast of Saint Brigid - Secondary Patron of Ireland
DESCRIPTION:Masses at 8.00am and 10.30am at St. John’s Church.
URL:https://www.stjohnskilkenny.com/event/feast-of-saint-brigid-secondary-patron-of-ireland/
END:VEVENT
BEGIN:VEVENT
DTSTART;TZID=Europe/Dublin:20220201T190000
DTEND;TZID=Europe/Dublin:20220201T200000
DTSTAMP:20260422T164043
CREATED:20220129T113541Z
LAST-MODIFIED:20220129T113541Z
UID:10000062-1643742000-1643745600@www.stjohnskilkenny.com
SUMMARY:Service of Enrollment for Confirmation 2022
DESCRIPTION:The candidates for the Sacrament of Confirmation in our parish will be formally enrolled.  The candidates and their parents will make a commitment to prepare well for the celebration of the sacrament.
URL:https://www.stjohnskilkenny.com/event/service-of-enrollment-for-confirmation-2022/
LOCATION:St. John’s Church\, Ireland
END:VEVENT
BEGIN:VEVENT
DTSTART;VALUE=DATE:20220203
DTEND;VALUE=DATE:20220204
DTSTAMP:20260422T164043
CREATED:20220129T114326Z
LAST-MODIFIED:20220129T120656Z
UID:10000059-1643846400-1643932799@www.stjohnskilkenny.com
SUMMARY:Feast of St. Blaise
DESCRIPTION:Thursday is the Feast of St. Blaise. A physician before he became a bishop\, he is venerated as\npatron of those who suffer from disease of the throat. \nThe priests will bless throats after 8.00am and 10.30am Masses\non Thursday
URL:https://www.stjohnskilkenny.com/event/feast-of-st-blaize/
END:VEVENT
BEGIN:VEVENT
DTSTART;VALUE=DATE:20220204
DTEND;VALUE=DATE:20220205
DTSTAMP:20260422T164043
CREATED:20220129T113926Z
LAST-MODIFIED:20220129T114037Z
UID:10000060-1643932800-1644019199@www.stjohnskilkenny.com
SUMMARY:First Friday of February
DESCRIPTION:Masses at 8.00am and 10.30am at St. John’s Church. \nThe priests will visit the sick and housebound.  Please call 056 772 1072 if you or someone known to you would like to be added to the list.
URL:https://www.stjohnskilkenny.com/event/first-friday-of-february/
END:VEVENT
BEGIN:VEVENT
DTSTART;VALUE=DATE:20220211
DTEND;VALUE=DATE:20220212
DTSTAMP:20260422T164043
CREATED:20220129T124931Z
LAST-MODIFIED:20220207T153949Z
UID:10000058-1644537600-1644623999@www.stjohnskilkenny.com
SUMMARY:World Day of Prayer for the Sick
DESCRIPTION:We will celebrate the Sacrament of the Sick during 10.30 Mass on Friday morning. Those in our community who are unwell may come and join in our communal prayer for the sick and be anointed with the Oil of the Sick. Parishioners are encouraged to help sick and elderly neighbours to come to Mass on that morning.
URL:https://www.stjohnskilkenny.com/event/world-day-of-prayer-for-the-sick/
END:VEVENT
END:VCALENDAR