BEGIN:VCALENDAR
VERSION:2.0
PRODID:-//St John&#039;s Parish, Kilkenny, Ireland - ECPv6.15.18//NONSGML v1.0//EN
CALSCALE:GREGORIAN
METHOD:PUBLISH
X-ORIGINAL-URL:https://www.stjohnskilkenny.com
X-WR-CALDESC:Events for St John&#039;s Parish, Kilkenny, Ireland
REFRESH-INTERVAL;VALUE=DURATION:PT1H
X-Robots-Tag:noindex
X-PUBLISHED-TTL:PT1H
BEGIN:VTIMEZONE
TZID:Europe/Dublin
BEGIN:STANDARD
TZOFFSETFROM:+0000
TZOFFSETTO:+0100
TZNAME:IST
DTSTART:20200329T010000
END:STANDARD
BEGIN:DAYLIGHT
TZOFFSETFROM:+0100
TZOFFSETTO:+0000
TZNAME:GMT
DTSTART:20201025T010000
END:DAYLIGHT
BEGIN:STANDARD
TZOFFSETFROM:+0000
TZOFFSETTO:+0100
TZNAME:IST
DTSTART:20210328T010000
END:STANDARD
BEGIN:DAYLIGHT
TZOFFSETFROM:+0100
TZOFFSETTO:+0000
TZNAME:GMT
DTSTART:20211031T010000
END:DAYLIGHT
BEGIN:STANDARD
TZOFFSETFROM:+0000
TZOFFSETTO:+0100
TZNAME:IST
DTSTART:20220327T010000
END:STANDARD
BEGIN:DAYLIGHT
TZOFFSETFROM:+0100
TZOFFSETTO:+0000
TZNAME:GMT
DTSTART:20221030T010000
END:DAYLIGHT
END:VTIMEZONE
BEGIN:VEVENT
DTSTART;TZID=Europe/Dublin:20211221T190000
DTEND;TZID=Europe/Dublin:20211221T200000
DTSTAMP:20260424T054932
CREATED:20211218T165846Z
LAST-MODIFIED:20211218T165846Z
UID:10000048-1640113200-1640116800@www.stjohnskilkenny.com
SUMMARY:The Sacrament of Reconciliation for Christmas
DESCRIPTION:The priests will be available in St. John’s Church from 7.00pm to 8.00pm on this Tuesday evening to celebrate the Sacrament of Reconciliation. \nIf a priest is available the celebration of the Sacrament may also be requested by calling to the Parish Office during the week. Please do not come to the church if you feel sick or show any signs of Covid-19. Be conscious of the need to sanitise your hands\, wear a mask and keep a social distance at all times.
URL:https://www.stjohnskilkenny.com/event/the-sacrament-of-reconciliation-for-christmas/
LOCATION:St. John’s Church\, Ireland
END:VEVENT
END:VCALENDAR