BEGIN:VCALENDAR
VERSION:2.0
PRODID:-//St John&#039;s Parish, Kilkenny, Ireland - ECPv6.15.18//NONSGML v1.0//EN
CALSCALE:GREGORIAN
METHOD:PUBLISH
X-ORIGINAL-URL:https://www.stjohnskilkenny.com
X-WR-CALDESC:Events for St John&#039;s Parish, Kilkenny, Ireland
REFRESH-INTERVAL;VALUE=DURATION:PT1H
X-Robots-Tag:noindex
X-PUBLISHED-TTL:PT1H
BEGIN:VTIMEZONE
TZID:Europe/Dublin
BEGIN:STANDARD
TZOFFSETFROM:+0000
TZOFFSETTO:+0100
TZNAME:IST
DTSTART:20200329T010000
END:STANDARD
BEGIN:DAYLIGHT
TZOFFSETFROM:+0100
TZOFFSETTO:+0000
TZNAME:GMT
DTSTART:20201025T010000
END:DAYLIGHT
BEGIN:STANDARD
TZOFFSETFROM:+0000
TZOFFSETTO:+0100
TZNAME:IST
DTSTART:20210328T010000
END:STANDARD
BEGIN:DAYLIGHT
TZOFFSETFROM:+0100
TZOFFSETTO:+0000
TZNAME:GMT
DTSTART:20211031T010000
END:DAYLIGHT
BEGIN:STANDARD
TZOFFSETFROM:+0000
TZOFFSETTO:+0100
TZNAME:IST
DTSTART:20220327T010000
END:STANDARD
BEGIN:DAYLIGHT
TZOFFSETFROM:+0100
TZOFFSETTO:+0000
TZNAME:GMT
DTSTART:20221030T010000
END:DAYLIGHT
END:VTIMEZONE
BEGIN:VEVENT
DTSTART;TZID=Europe/Dublin:20211008T113000
DTEND;TZID=Europe/Dublin:20211008T123000
DTSTAMP:20260422T163953
CREATED:20211007T152849Z
LAST-MODIFIED:20211007T152849Z
UID:10000039-1633692600-1633696200@www.stjohnskilkenny.com
SUMMARY:Requiem Mass for Eugene Brett
DESCRIPTION:
URL:https://www.stjohnskilkenny.com/event/requiem-mass-for-eugene-brett/
LOCATION:St. John’s Church\, Ireland
END:VEVENT
BEGIN:VEVENT
DTSTART;TZID=Europe/Dublin:20211009T110000
DTEND;TZID=Europe/Dublin:20211009T120000
DTSTAMP:20260422T163953
CREATED:20211001T092551Z
LAST-MODIFIED:20211011T162131Z
UID:10000042-1633777200-1633780800@www.stjohnskilkenny.com
SUMMARY:Johnswell National School First Holy Communion
DESCRIPTION:
URL:https://www.stjohnskilkenny.com/event/johnswell-national-school-holy-communion/
LOCATION:St John the Baptist Church\, Johnswell\, Johnswell\, Kilkenny\, Ireland
END:VEVENT
BEGIN:VEVENT
DTSTART;TZID=Europe/Dublin:20211011T113000
DTEND;TZID=Europe/Dublin:20211011T123000
DTSTAMP:20260422T163953
CREATED:20211007T153023Z
LAST-MODIFIED:20211007T153030Z
UID:10000038-1633951800-1633955400@www.stjohnskilkenny.com
SUMMARY:Requiem Mass for Ollie Walsh
DESCRIPTION:
URL:https://www.stjohnskilkenny.com/event/requiem-mass-for-ollie-walsh/
LOCATION:St. John’s Church\, Ireland
END:VEVENT
BEGIN:VEVENT
DTSTART;TZID=Europe/Dublin:20211012T113000
DTEND;TZID=Europe/Dublin:20211012T123000
DTSTAMP:20260422T163953
CREATED:20211011T162306Z
LAST-MODIFIED:20211011T162306Z
UID:10000036-1634038200-1634041800@www.stjohnskilkenny.com
SUMMARY:Requiem Mass: Margaret McGuinness
DESCRIPTION:
URL:https://www.stjohnskilkenny.com/event/requiem-mass-margaret-mcguinness/
LOCATION:St. John’s Church\, Ireland
END:VEVENT
BEGIN:VEVENT
DTSTART;TZID=Europe/Dublin:20211014T193000
DTEND;TZID=Europe/Dublin:20211014T210000
DTSTAMP:20260422T163953
CREATED:20211009T101721Z
LAST-MODIFIED:20211009T101728Z
UID:10000037-1634239800-1634245200@www.stjohnskilkenny.com
SUMMARY:Parish Finance Committee Meeting
DESCRIPTION:
URL:https://www.stjohnskilkenny.com/event/parish-finance-committee-meeting/
LOCATION:Parish Center\, Station Road\, Newbridge\, Ireland
GEO:53.1843752;-6.8082918
X-APPLE-STRUCTURED-LOCATION;VALUE=URI;X-ADDRESS=Parish Center Station Road Newbridge Ireland;X-APPLE-RADIUS=500;X-TITLE=Station Road:geo:-6.8082918,53.1843752
END:VEVENT
BEGIN:VEVENT
DTSTART;TZID=Europe/Dublin:20211023T100000
DTEND;TZID=Europe/Dublin:20211023T110000
DTSTAMP:20260422T163953
CREATED:20211001T093920Z
LAST-MODIFIED:20211011T162458Z
UID:10000041-1634983200-1634986800@www.stjohnskilkenny.com
SUMMARY:St John's Parish First Holy Communions
DESCRIPTION:
URL:https://www.stjohnskilkenny.com/event/st-johns-parish-holy-communions/
LOCATION:St. John’s Church\, Ireland
END:VEVENT
BEGIN:VEVENT
DTSTART;TZID=Europe/Dublin:20211023T120000
DTEND;TZID=Europe/Dublin:20211023T130000
DTSTAMP:20260422T163953
CREATED:20211001T094057Z
LAST-MODIFIED:20211011T162425Z
UID:10000040-1634990400-1634994000@www.stjohnskilkenny.com
SUMMARY:St John's Parish First Holy Communions
DESCRIPTION:
URL:https://www.stjohnskilkenny.com/event/st-johns-parish-holy-communions-2/
LOCATION:St. John’s Church\, Ireland
END:VEVENT
END:VCALENDAR