BEGIN:VCALENDAR
VERSION:2.0
PRODID:-//St John&#039;s Parish, Kilkenny, Ireland - ECPv6.15.18//NONSGML v1.0//EN
CALSCALE:GREGORIAN
METHOD:PUBLISH
X-ORIGINAL-URL:https://www.stjohnskilkenny.com
X-WR-CALDESC:Events for St John&#039;s Parish, Kilkenny, Ireland
REFRESH-INTERVAL;VALUE=DURATION:PT1H
X-Robots-Tag:noindex
X-PUBLISHED-TTL:PT1H
BEGIN:VTIMEZONE
TZID:Europe/Dublin
BEGIN:STANDARD
TZOFFSETFROM:+0000
TZOFFSETTO:+0100
TZNAME:IST
DTSTART:20200329T010000
END:STANDARD
BEGIN:DAYLIGHT
TZOFFSETFROM:+0100
TZOFFSETTO:+0000
TZNAME:GMT
DTSTART:20201025T010000
END:DAYLIGHT
BEGIN:STANDARD
TZOFFSETFROM:+0000
TZOFFSETTO:+0100
TZNAME:IST
DTSTART:20210328T010000
END:STANDARD
BEGIN:DAYLIGHT
TZOFFSETFROM:+0100
TZOFFSETTO:+0000
TZNAME:GMT
DTSTART:20211031T010000
END:DAYLIGHT
BEGIN:STANDARD
TZOFFSETFROM:+0000
TZOFFSETTO:+0100
TZNAME:IST
DTSTART:20220327T010000
END:STANDARD
BEGIN:DAYLIGHT
TZOFFSETFROM:+0100
TZOFFSETTO:+0000
TZNAME:GMT
DTSTART:20221030T010000
END:DAYLIGHT
END:VTIMEZONE
BEGIN:VEVENT
DTSTART;TZID=Europe/Dublin:20210711T113000
DTEND;TZID=Europe/Dublin:20210711T120000
DTSTAMP:20260422T215257
CREATED:20210708T123232Z
LAST-MODIFIED:20210708T123732Z
UID:10000025-1626003000-1626004800@www.stjohnskilkenny.com
SUMMARY:Remembrance Tree
DESCRIPTION:At the end of May Bishop Denis Nulty\, Ossory Diocesan Administrator\, celebrated a special Mass of Thanksgiving and Remembrance at St. Mary’s Cathedral. During the Mass\, which was organised by the Ossory Middle Deanery Pastoral Council\, the deceased members of our parish who had funerals curtailed by the coronavirus restrictions were prayed for and remembered. Each of the fourteen parishes involved were presented with a special remembrance tree and candle which were blessed by the bishop. \nOur parish tree will be planted in the grounds of St. John’s Church following 11.30am Mass on next Sunday.  All are invited to attend this short ceremony in the grounds in front of the church.
URL:https://www.stjohnskilkenny.com/event/remembrance-tree/
LOCATION:St. John’s Church\, Ireland
END:VEVENT
END:VCALENDAR