BEGIN:VCALENDAR
VERSION:2.0
PRODID:-//St John&#039;s Parish, Kilkenny, Ireland - ECPv6.15.18//NONSGML v1.0//EN
CALSCALE:GREGORIAN
METHOD:PUBLISH
X-ORIGINAL-URL:https://www.stjohnskilkenny.com
X-WR-CALDESC:Events for St John&#039;s Parish, Kilkenny, Ireland
REFRESH-INTERVAL;VALUE=DURATION:PT1H
X-Robots-Tag:noindex
X-PUBLISHED-TTL:PT1H
BEGIN:VTIMEZONE
TZID:Europe/Dublin
BEGIN:STANDARD
TZOFFSETFROM:+0000
TZOFFSETTO:+0100
TZNAME:IST
DTSTART:20190331T010000
END:STANDARD
BEGIN:DAYLIGHT
TZOFFSETFROM:+0100
TZOFFSETTO:+0000
TZNAME:GMT
DTSTART:20191027T010000
END:DAYLIGHT
BEGIN:STANDARD
TZOFFSETFROM:+0000
TZOFFSETTO:+0100
TZNAME:IST
DTSTART:20200329T010000
END:STANDARD
BEGIN:DAYLIGHT
TZOFFSETFROM:+0100
TZOFFSETTO:+0000
TZNAME:GMT
DTSTART:20201025T010000
END:DAYLIGHT
BEGIN:STANDARD
TZOFFSETFROM:+0000
TZOFFSETTO:+0100
TZNAME:IST
DTSTART:20210328T010000
END:STANDARD
BEGIN:DAYLIGHT
TZOFFSETFROM:+0100
TZOFFSETTO:+0000
TZNAME:GMT
DTSTART:20211031T010000
END:DAYLIGHT
END:VTIMEZONE
BEGIN:VEVENT
DTSTART;VALUE=DATE:20200313
DTEND;VALUE=DATE:20200330
DTSTAMP:20260422T164005
CREATED:20200313T152933Z
LAST-MODIFIED:20200313T153050Z
UID:10000028-1584057600-1585526399@www.stjohnskilkenny.com
SUMMARY:Coronavirus COVID-19
DESCRIPTION:Government Guidelines \nIn accordance with Government guidelines that no more than 100 people should be assembled together indoors\, and in accordance with the recommendation of the Irish Bishop’s Conference: \nWeekend Masses (including St Patrick’s Day) in \nSt Johns’ Church\, \nDunmore Church \nand Johnswell Church \nare cancelled until further notice with immediate effect. \nRadio Mass \nMass will be broadcast live from St John’s Church each weekday at 10.30am as usual and at 11.30am each Sunday at 106.8 MHz FM. \nWebcam Mass \nAlso\, Mass will be streamed live from St John’s Church each weekday at 10.30am as usual and at 11.30am each Sunday on our parish Webcam: stjohnskilkenny.com \nWeekday Masses are not affected at the moment.
URL:https://www.stjohnskilkenny.com/event/coronavirus-covid-19/
END:VEVENT
END:VCALENDAR