BEGIN:VCALENDAR
VERSION:2.0
PRODID:-//St John&#039;s Parish, Kilkenny, Ireland - ECPv6.15.18//NONSGML v1.0//EN
CALSCALE:GREGORIAN
METHOD:PUBLISH
X-WR-CALNAME:St John&#039;s Parish, Kilkenny, Ireland
X-ORIGINAL-URL:https://www.stjohnskilkenny.com
X-WR-CALDESC:Events for St John&#039;s Parish, Kilkenny, Ireland
REFRESH-INTERVAL;VALUE=DURATION:PT1H
X-Robots-Tag:noindex
X-PUBLISHED-TTL:PT1H
BEGIN:VTIMEZONE
TZID:Europe/Dublin
BEGIN:STANDARD
TZOFFSETFROM:+0000
TZOFFSETTO:+0100
TZNAME:IST
DTSTART:20250330T010000
END:STANDARD
BEGIN:DAYLIGHT
TZOFFSETFROM:+0100
TZOFFSETTO:+0000
TZNAME:GMT
DTSTART:20251026T010000
END:DAYLIGHT
BEGIN:STANDARD
TZOFFSETFROM:+0000
TZOFFSETTO:+0100
TZNAME:IST
DTSTART:20260329T010000
END:STANDARD
BEGIN:DAYLIGHT
TZOFFSETFROM:+0100
TZOFFSETTO:+0000
TZNAME:GMT
DTSTART:20261025T010000
END:DAYLIGHT
BEGIN:STANDARD
TZOFFSETFROM:+0000
TZOFFSETTO:+0100
TZNAME:IST
DTSTART:20270328T010000
END:STANDARD
BEGIN:DAYLIGHT
TZOFFSETFROM:+0100
TZOFFSETTO:+0000
TZNAME:GMT
DTSTART:20271031T010000
END:DAYLIGHT
END:VTIMEZONE
BEGIN:VEVENT
DTSTART;TZID=Europe/Dublin:20260516T110000
DTEND;TZID=Europe/Dublin:20260516T120000
DTSTAMP:20260423T070536
CREATED:20260420T114400Z
LAST-MODIFIED:20260420T114400Z
UID:10000107-1778929200-1778932800@www.stjohnskilkenny.com
SUMMARY:First Holy Communion
DESCRIPTION:We look forward to celebrating First Holy Communion with the young people from St. John’s National School.
URL:https://www.stjohnskilkenny.com/event/first-holy-communion-5/
LOCATION:St. John’s Church\, Ireland
END:VEVENT
BEGIN:VEVENT
DTSTART;TZID=Europe/Dublin:20260523T110000
DTEND;TZID=Europe/Dublin:20260523T120000
DTSTAMP:20260423T070536
CREATED:20260420T114559Z
LAST-MODIFIED:20260420T114758Z
UID:10000108-1779534000-1779537600@www.stjohnskilkenny.com
SUMMARY:First Holy Communion
DESCRIPTION:We look forward to celebrating First Holy Communion with the young people from Johnswell National School.
URL:https://www.stjohnskilkenny.com/event/first-holy-communion-6/
LOCATION:St John the Baptist Church\, Johnswell\, Johnswell\, Kilkenny\, Ireland
END:VEVENT
BEGIN:VEVENT
DTSTART;TZID=Europe/Dublin:20260626T193000
DTEND;TZID=Europe/Dublin:20260626T203000
DTSTAMP:20260423T070536
CREATED:20260420T115101Z
LAST-MODIFIED:20260420T115102Z
UID:10000109-1782502200-1782505800@www.stjohnskilkenny.com
SUMMARY:St. Kieran's Cemetery Mass
DESCRIPTION:We remember all our beloved dead\, especially those interred at St. Kieran’s Cemetery.
URL:https://www.stjohnskilkenny.com/event/st-kierans-cemetery-mass-2/
LOCATION:St. Kieran’s Cemetery\, Kilkenny\, Hebron Road\, Kilkenny\, Ireland
END:VEVENT
BEGIN:VEVENT
DTSTART;TZID=Europe/Dublin:20260703T193000
DTEND;TZID=Europe/Dublin:20260703T203000
DTSTAMP:20260423T070536
CREATED:20260420T115254Z
LAST-MODIFIED:20260420T115255Z
UID:10000110-1783107000-1783110600@www.stjohnskilkenny.com
SUMMARY:Johnswell Cemetery Mass
DESCRIPTION:We pray for those interred in Johnswell Cemetery.
URL:https://www.stjohnskilkenny.com/event/johnswell-cemetery-mass-2/
LOCATION:St John the Baptist Church\, Johnswell\, Johnswell\, Kilkenny\, Ireland
END:VEVENT
BEGIN:VEVENT
DTSTART;TZID=Europe/Dublin:20260703T193000
DTEND;TZID=Europe/Dublin:20260703T203000
DTSTAMP:20260423T070536
CREATED:20260420T115419Z
LAST-MODIFIED:20260420T115419Z
UID:10000111-1783107000-1783110600@www.stjohnskilkenny.com
SUMMARY:Dunmore Cemetery Mass
DESCRIPTION:We gather and pray for all those buried in Dunmore Cemetery.
URL:https://www.stjohnskilkenny.com/event/dunmore-cemetery-mass-2/
LOCATION:Dunmore Church\, Kilkenny\, Ireland
END:VEVENT
END:VCALENDAR